0.020984517841273
0.000000000000000
0.000000000000000
-0.020986507459988
6436802.427068603200000
5806176.965886011700000
